BEGIN:VCALENDAR
VERSION:2.0
METHOD:PUBLISH
CALSCALE:GREGORIAN
PRODID:-//WordPress - MECv7.32.0//EN
X-ORIGINAL-URL:https://flayosc.frejustoulon.fr/
X-WR-CALNAME:Paroisse de Flayosc et d&#039;Ampus
X-WR-CALDESC:
X-WR-TIMEZONE:Europe/Paris
BEGIN:VTIMEZONE
TZID:Europe/Paris
X-LIC-LOCATION:Europe/Paris
BEGIN:DAYLIGHT
TZOFFSETFROM:+0100
TZOFFSETTO:+0200
TZNAME:CEST
DTSTART:20260329T030000
RRULE:FREQ=YEARLY;BYMONTH=03;BYDAY=-1SU
END:DAYLIGHT
BEGIN:STANDARD
TZOFFSETFROM:+0200
TZOFFSETTO:+0100
TZNAME:CET
DTSTART:20261025T020000
RRULE:FREQ=YEARLY;BYMONTH=10;BYDAY=4SU
END:STANDARD
END:VTIMEZONE
REFRESH-INTERVAL;VALUE=DURATION:PT1H
X-PUBLISHED-TTL:PT1H
X-MS-OLK-FORCEINSPECTOROPEN:TRUE
BEGIN:VEVENT
CLASS:PUBLIC
UID:MEC-1068bceb19323fe72b2b344ccf85c254@flayosc.frejustoulon.fr
DTSTART;TZID=Europe/Paris:20260422T093000
DTEND;TZID=Europe/Paris:20260422T100000
DTSTAMP:20250210T184412Z
RRULE:FREQ=WEEKLY
EXDATE:20250529T073000Z,20251224T083000Z,20260218T083000Z
CREATED:20250210
LAST-MODIFIED:20260421
PRIORITY:5
SEQUENCE:7
TRANSP:OPAQUE
SUMMARY:TEMPS D ADORATION
DESCRIPTION:
URL:https://flayosc.frejustoulon.fr/evenement/2311-temps-d-adoration-05-02-2025-09-30/
ATTACH;FMTTYPE=image/jpeg:https://flayosc.frejustoulon.fr/wp-content/uploads/sites/26/2019/09/eglise-2.jpg
END:VEVENT
BEGIN:VEVENT
CLASS:PUBLIC
UID:MEC-2cfa8f9e50e0f510ede9d12338a5f564@flayosc.frejustoulon.fr
DTSTART;TZID=Europe/Paris:20260422T083000
DTEND;TZID=Europe/Paris:20260422T090000
DTSTAMP:20251218T185546Z
RRULE:FREQ=WEEKLY
EXDATE:20260218T073000Z
CREATED:20251218
LAST-MODIFIED:20260421
PRIORITY:5
SEQUENCE:4
TRANSP:OPAQUE
SUMMARY:Temps des laudes
DESCRIPTION:\nLes Laudes tirent leur nom du mot latin « laudes », qui signifie louanges. Cette prière a pour objectif principal de louer Dieu et de rendre grâce pour les bénédictions reçues pendant la nuit et pour le début d’une nouvelle journée. Elle est souvent considérée comme une prière d’action de grâce et de louange.\n
URL:https://flayosc.frejustoulon.fr/evenement/2311-temps-des-laudes-07-01-2026-08-30/
ATTACH;FMTTYPE=image/jpeg:https://flayosc.frejustoulon.fr/wp-content/uploads/sites/26/2024/05/eli-solitas-q6e4zwgtucm-unsplash-scaled-1.jpg
END:VEVENT
BEGIN:VEVENT
CLASS:PUBLIC
UID:MEC-d33174c464c877fb03e77efdab4ae804@flayosc.frejustoulon.fr
DTSTART;TZID=Europe/Paris:20260426T093000
DTEND;TZID=Europe/Paris:20260426T103000
DTSTAMP:20250210T185821Z
RRULE:FREQ=WEEKLY
EXDATE:20250420T073000Z,20251012T073000Z,20260329T073000Z,20260405T073000Z
CREATED:20250210
LAST-MODIFIED:20260421
PRIORITY:5
SEQUENCE:21
TRANSP:OPAQUE
SUMMARY:MESSE DOMINICALE AMPUS
DESCRIPTION:
URL:https://flayosc.frejustoulon.fr/evenement/2314-messe-dominicale-ampus-16-02-2025-09-30/
ATTACH;FMTTYPE=image/jpeg:https://flayosc.frejustoulon.fr/wp-content/uploads/sites/26/2019/09/eglise-2.jpg
END:VEVENT
BEGIN:VEVENT
CLASS:PUBLIC
UID:MEC-cfe795a0a3c7bc1683f2efd8837dde0c@flayosc.frejustoulon.fr
DTSTART;TZID=Europe/Paris:20260423T090000
DTEND;TZID=Europe/Paris:20260423T093000
DTSTAMP:20250528T164249Z
RRULE:FREQ=WEEKLY
EXDATE:20251225T080000Z,20260402T070000Z
CREATED:20250528
LAST-MODIFIED:20260421
PRIORITY:5
SEQUENCE:8
TRANSP:OPAQUE
SUMMARY:MESSE JEUDI
DESCRIPTION:
URL:https://flayosc.frejustoulon.fr/evenement/2311-messe-jeudi-05-06-2025-09-00/
ATTACH;FMTTYPE=image/jpeg:https://flayosc.frejustoulon.fr/wp-content/uploads/sites/26/2019/09/eglise-2.jpg
END:VEVENT
BEGIN:VEVENT
CLASS:PUBLIC
UID:MEC-ecb47fbb07a752413640f82a945530f8@flayosc.frejustoulon.fr
DTSTART;TZID=Europe/Paris:20260426T110000
DTEND;TZID=Europe/Paris:20260426T120000
DTSTAMP:20250210T185710Z
RRULE:FREQ=WEEKLY
EXDATE:20250529T090000Z,20251012T090000Z,20260328T100000Z,20260329T090000Z,20260405T090000Z
CREATED:20250210
LAST-MODIFIED:20260421
PRIORITY:5
SEQUENCE:22
TRANSP:OPAQUE
SUMMARY:MESSE DOMINICALE FLAYOSC
DESCRIPTION:
URL:https://flayosc.frejustoulon.fr/evenement/2311-messe-dominicale-flayosc-05-10-2025-11-00/
ATTACH;FMTTYPE=image/jpeg:https://flayosc.frejustoulon.fr/wp-content/uploads/sites/26/2019/09/eglise-2.jpg
END:VEVENT
BEGIN:VEVENT
CLASS:PUBLIC
UID:MEC-ac4395adcb3da3b2af3d3972d7a10221@flayosc.frejustoulon.fr
DTSTART;TZID=Europe/Paris:20260425T180000
DTEND;TZID=Europe/Paris:20260425T190000
DTSTAMP:20250210T185549Z
RRULE:FREQ=WEEKLY
EXDATE:20250412T160000Z,20250419T160000Z,20251101T170000Z,20260328T170000Z,20260404T160000Z
CREATED:20250210
LAST-MODIFIED:20260421
PRIORITY:5
SEQUENCE:18
TRANSP:OPAQUE
SUMMARY:MESSE ANTICIPEE
DESCRIPTION:
URL:https://flayosc.frejustoulon.fr/evenement/2311-messe-anticipee-21-02-2026-18-00/
ATTACH;FMTTYPE=image/jpeg:https://flayosc.frejustoulon.fr/wp-content/uploads/sites/26/2019/09/eglise-2.jpg
END:VEVENT
BEGIN:VEVENT
CLASS:PUBLIC
UID:MEC-c4414e538a5475ec0244673b7f2f7dbb@flayosc.frejustoulon.fr
DTSTART;TZID=Europe/Paris:20260424T180000
DTEND;TZID=Europe/Paris:20260424T183000
DTSTAMP:20250210T184914Z
RRULE:FREQ=WEEKLY
EXDATE:20250418T160000Z,20250411T160000Z,20260403T160000Z
CREATED:20250210
LAST-MODIFIED:20260421
PRIORITY:5
SEQUENCE:12
TRANSP:OPAQUE
SUMMARY:MESSE VENDREDI
DESCRIPTION:
URL:https://flayosc.frejustoulon.fr/evenement/2311-messe-vendredi-07-02-2025-18-00/
ATTACH;FMTTYPE=image/jpeg:https://flayosc.frejustoulon.fr/wp-content/uploads/sites/26/2019/09/eglise-2.jpg
END:VEVENT
BEGIN:VEVENT
CLASS:PUBLIC
UID:MEC-700fdb2ba62d4554dc268c65add4b16e@flayosc.frejustoulon.fr
DTSTART;TZID=Europe/Paris:20260422T090000
DTEND;TZID=Europe/Paris:20260422T093000
DTSTAMP:20250210T184047Z
RRULE:FREQ=WEEKLY
EXDATE:20250305T080000Z,20251224T080000Z,20260218T080000Z
CREATED:20250210
LAST-MODIFIED:20260421
PRIORITY:5
SEQUENCE:14
TRANSP:OPAQUE
SUMMARY:MESSE MERCREDI
DESCRIPTION:
URL:https://flayosc.frejustoulon.fr/evenement/2311-messe-mercredi-05-02-2025-09-00/
ATTACH;FMTTYPE=image/jpeg:https://flayosc.frejustoulon.fr/wp-content/uploads/sites/26/2019/09/eglise-2.jpg
END:VEVENT
BEGIN:VEVENT
CLASS:PUBLIC
UID:MEC-0e189c35adab992d274c294586143ec9@flayosc.frejustoulon.fr
DTSTART;TZID=Europe/Paris:20260428T180000
DTEND;TZID=Europe/Paris:20260428T183000
DTSTAMP:20250203T180413Z
RRULE:FREQ=WEEKLY
CREATED:20250203
LAST-MODIFIED:20260421
PRIORITY:5
SEQUENCE:12
TRANSP:OPAQUE
SUMMARY:MESSE Marie qui défait les noeuds
DESCRIPTION:\n               Messe à 18 h 00 en l’honneur de \n              Marie qui défait les noeuds\n              à la paroisse Saint Laurent à Flayosc\n
URL:https://flayosc.frejustoulon.fr/evenement/2311-messe-marie-qui-defait-les-noeuds-04-02-2025-18-00/
ATTACH;FMTTYPE=image/jpeg:https://flayosc.frejustoulon.fr/wp-content/uploads/sites/26/2025/02/notre-dame-qui-defait-les-noeuds.jpg
END:VEVENT
BEGIN:VEVENT
CLASS:PUBLIC
UID:MEC-3b9d6e5e779c8f46c5765c194a04b59a@flayosc.frejustoulon.fr
DTSTART;TZID=Europe/Paris:20260427T090000
DTEND;TZID=Europe/Paris:20260427T093000
DTSTAMP:20250203T163241Z
RRULE:FREQ=WEEKLY
EXDATE:20260202T080000Z,20260218T080000Z
CREATED:20250203
LAST-MODIFIED:20260421
PRIORITY:5
SEQUENCE:13
TRANSP:OPAQUE
SUMMARY:MESSE
DESCRIPTION:
URL:https://flayosc.frejustoulon.fr/evenement/2311-messe-10-02-2025-09-00/
ATTACH;FMTTYPE=image/jpeg:https://flayosc.frejustoulon.fr/wp-content/uploads/sites/26/2019/09/eglise-2.jpg
END:VEVENT
END:VCALENDAR
